BEGIN:VCALENDAR
VERSION:2.0
PRODID:-//Kerkconcerten Delft - ECPv6.15.14//NONSGML v1.0//EN
CALSCALE:GREGORIAN
METHOD:PUBLISH
X-WR-CALNAME:Kerkconcerten Delft
X-ORIGINAL-URL:https://www.kerkconcertendelft.nl
X-WR-CALDESC:Evenementen voor Kerkconcerten Delft
REFRESH-INTERVAL;VALUE=DURATION:PT1H
X-Robots-Tag:noindex
X-PUBLISHED-TTL:PT1H
BEGIN:VTIMEZONE
TZID:Europe/Amsterdam
BEGIN:DAYLIGHT
TZOFFSETFROM:+0100
TZOFFSETTO:+0200
TZNAME:CEST
DTSTART:20250330T010000
END:DAYLIGHT
BEGIN:STANDARD
TZOFFSETFROM:+0200
TZOFFSETTO:+0100
TZNAME:CET
DTSTART:20251026T010000
END:STANDARD
BEGIN:DAYLIGHT
TZOFFSETFROM:+0100
TZOFFSETTO:+0200
TZNAME:CEST
DTSTART:20260329T010000
END:DAYLIGHT
BEGIN:STANDARD
TZOFFSETFROM:+0200
TZOFFSETTO:+0100
TZNAME:CET
DTSTART:20261025T010000
END:STANDARD
BEGIN:DAYLIGHT
TZOFFSETFROM:+0100
TZOFFSETTO:+0200
TZNAME:CEST
DTSTART:20270328T010000
END:DAYLIGHT
BEGIN:STANDARD
TZOFFSETFROM:+0200
TZOFFSETTO:+0100
TZNAME:CET
DTSTART:20271031T010000
END:STANDARD
END:VTIMEZONE
BEGIN:VEVENT
DTSTART;TZID=Europe/Amsterdam:20260515T200000
DTEND;TZID=Europe/Amsterdam:20260515T210000
DTSTAMP:20260424T225146
CREATED:20260124T222425Z
LAST-MODIFIED:20260416T232514Z
UID:5642-1778875200-1778878800@www.kerkconcertendelft.nl
SUMMARY:Bas de Vroome - Orgelconcert
DESCRIPTION:Met het programma van dit orgelconcert neemt orgelvirtuoos Bas de Vroome de luisteraar mee naar de rijke orgelcultuur van het einde van de 19e en het begin van de 20e eeuw. Met muziek van Reger en Karg-Elert klinkt de expressieve en kleurrijke Duitse romantiek\, terwijl Pierné en Vierne de warme\, symfonische klankwereld van het Franse orgel laten horen\, maar dan in het oer-Hollandse Delft. In het middelpunt staat Bachs transcriptie van Vivaldi’s Concerto in A\, een knipoog naar het rijke verleden waarop latere componisten voortbouwen. Samen vormen deze composities een afwisselend programma vol dramatiek\, lyriek en virtuositeit. \nProgramma\n\nMax Reger (1873–1916)\nIntroduktion und Passacaglia in d-moll\, WoO IV/6\nSigfrid Karg-Elert (1877–1933)\nUit Choral-Improvisationen für Orgel\, Op. 65 \n\nLobe den Herren\, den mächtigen König\n\n\nJohann Sebastian Bach (1685–1750)\nConcerto in A\, BWV 593 (naar A. Vivaldi RV 522)\nGabriel Pierné (1863–1937)\n3 Pièces\, Op. 29 \n\nPrelude\nCantilene\nScherzando pour Orgue\n\n\nLouis Vierne (1870–1937)\nUit Symphonie No. 1\, Op. 14 \n\nAndante\nFinal\n\n\n\nMusicus\nBas de Vroome is al decennialang een vertrouwd muzikaal gezicht in Delft. Als organist van de Oude en Nieuwe Kerk bespeelt hij de vier historische orgels van deze kerken. In de Nieuwe Kerk verzorgde hij onder meer de muziek bij de bijzettingen van Prins Claus\, Prinses Juliana en Prins Bernhard\, en in de Oude Kerk de muziek bij de huwelijksdienst van Prins Friso en Prinses Mabel. \nNaast zijn werk als organist is Bas de Vroome actief als beiaardier in Vlaardingen\, Rijnsburg\, Naaldwijk\, Wateringen\, De Lier en Spijkenisse. Sinds 1994 is hij verbonden aan Codarts Rotterdams Conservatorium in Rotterdam\, waar hij hoofdvak orgel doceert en vakken als vakdidactiek en basso continuo verzorgt. \nBas de Vroome studeerde orgel en kerkmuziek aan het Sweelinck Conservatorium in Amsterdam bij Jacques van Oortmerssen\, Piet Kee en Klaas Bolt\, waar hij afstudeerde summa cum laude. Daarnaast studeerde hij beiaard aan de Nederlandse Beiaardschool in Amersfoort bij Todd Fair en Arie Abbenes\, eveneens met onderscheiding. Ook behaalde hij zijn Artist Diploma klavecimbel bij Fabio Bonizzoni aan het Koninklijk Conservatorium in Den Haag. \nHij won prijzen bij nationale en internationale orgelconcoursen en maakte diverse cd-opnamen\, waaronder een integrale opname van de orgelwerken van Hugo Distler. Daarnaast is hij adviseur van Stichting Kerkconcerten Delft. \nAanvullende informatie\nDe kassa opent 30 minuten vóór aanvang van het concert. Voor kinderen en jongeren t/m 16 jaar is de toegang gratis. We adviseren u om op tijd te komen: de zitplaatsen zijn vrij (geen reservering) en u kunt dan rustig een mooie plek uitzoeken.
URL:https://www.kerkconcertendelft.nl/concert/orgelconcert-bas-de-vroome-3/
LOCATION:Oude Kerk Delft\, Heilige Geestkerkhof 25\, Delft\, Zuid-Holland\, 2611 HP\, Nederland
CATEGORIES:Orgelconcert
ATTACH;FMTTYPE=image/jpeg:https://www.kerkconcertendelft.nl/wp-content/uploads/2026/01/bas16-9.jpeg
END:VEVENT
BEGIN:VEVENT
DTSTART;TZID=Europe/Amsterdam:20260522T200000
DTEND;TZID=Europe/Amsterdam:20260522T210000
DTSTAMP:20260424T225146
CREATED:20260124T224250Z
LAST-MODIFIED:20260416T223957Z
UID:5650-1779480000-1779483600@www.kerkconcertendelft.nl
SUMMARY:Nathan Laube - Orgelconcert
DESCRIPTION:Samen met het orgelconcert van Bas de Vroome vormt dit concert een tweeluik rond de rijke orgelcultuur van de 19e en vroege 20e eeuw. Waar De Vroome de kleurrijke Duitse en Franse romantiek laat horen\, belicht Nathan Laube de spirituele en dramatische kant van het repertoire. Muziek van Felix Mendelssohn Bartholdy opent met een sonate rond het koraal “Aus tiefer Not schrei ich zu dir” gevolgd door twee meditatieve Psalm Preludes van Herbert Howells. Het programma culmineert in de indrukwekkende Sonate over Psalm 94 van Julius Reubke\, een monumentaal werk waarin strijd\, gebed en vertrouwen samenkomen. \nProgramma\n\nFelix Mendelssohn Bartholdy (1809–1847)\nSonata in A\, Op. 65\, No. 3 \n\nCon moto maestoso – Aus tiefer Not schrei ich zu dir\nAndante tranquillo\n\n\nFelix Mendelssohn Bartholdy\nVariations Sérieuses\, Op. 54 (arr. Nathan Laube)\nHerbert Howells (1892–1983)\nUit Three Psalm Preludes\, Set 1\, Op. 32 \n\nNo. 1 – Psalm 34:6\nLo the poor crieth and the Lord heareth him\,\nyea and saveth him out of all his troubles.\nNo. 2 – Psalm 37:11\nBut the meek shall inherit the earth\,\nand shall delight themselves in the abundance of peace.\n\n\nJulius Reubke (1834–1858)\nOrgelsonate “Der 94ste Psalm” in c (1857) \n\nGrave – Larghetto – Grave\nO Lord God\, to whom vengeance belongeth\, shew thyself.\nArise\, thou judge of the world: and reward the proud after their deserving.\nAllegro con fuoco\nLord\, how long shall the ungodly triumph?\nThey murder the widow\, and the stranger: and put the fatherless to death.\nAnd yet they say: The Lord shall not see: neither shall the God of Jacob regard it.\nAdagio\nIf the Lord had not helped me: it had not failed but my soul had been put to silence.\nAllegro\nBut the Lord is my defense: and my God is the rock of my refuge.\nAnd he shall bring upon them their own iniquity: and shall cut them off in their own wickedness.\n\n\n\nMusicus\nNathan Laube (USA) behoort tot de meest toonaangevende concertorganisten van zijn generatie. Met zijn expressieve spel\, verfijnde stijlgevoel en grote aandacht voor klank en instrument weet hij het orgelrepertoire op meesterlijke wijze tot leven te brengen. \nAls internationaal concertorganist trad hij op in vooraanstaande concertzalen en kathedralen over de hele wereld\, waaronder het Vienna Konzerthaus\, de Elbphilharmonie in Hamburg\, de Berlin Philharmonie\, Royal Festival Hall en Royal Albert Hall in Londen\, het Walt Disney Concert Hall in Los Angeles en de Maison Symphonique in Montréal. Daarnaast was hij te horen in beroemde kerken zoals Notre-Dame in Parijs\, St. Paul’s Cathedral in Londen en de Frauenkirche in Dresden. In 2022 maakte hij zijn debuut tijdens de prestigieuze BBC Proms met een live uitgezonden recital in de Royal Albert Hall. \nLaube wordt wereldwijd uitgenodigd voor belangrijke orgelfestivals en inauguratieconcerten van nieuwe instrumenten. Zijn bijzondere affiniteit met het romantische orgelrepertoire en de symfonische mogelijkheden van het instrument komt ook tot uitdrukking in het programma dat hij in Delft presenteert. \nNaast zijn concertpraktijk is Nathan Laube actief als docent en inspirator voor een nieuwe generatie organisten. Hij is Associate Professor of Organ aan de Eastman School of Music in Rochester (VS) en was eerder hoogleraar orgel aan de Musikhochschule Stuttgart. Zijn opname van het Grand Concerto van Stephen Paulus met het Nashville Symphony Orchestra werd bekroond met een Grammy Award. \nAanvullende informatie\nDe kassa opent 30 minuten vóór aanvang van het concert. Voor kinderen en jongeren t/m 16 jaar is de toegang gratis. We adviseren u om op tijd te komen: de zitplaatsen zijn vrij (geen reservering) en u kunt dan rustig een mooie plek uitzoeken.
URL:https://www.kerkconcertendelft.nl/concert/orgelconcert-nathan-laube/
LOCATION:Oude Kerk Delft\, Heilige Geestkerkhof 25\, Delft\, Zuid-Holland\, 2611 HP\, Nederland
CATEGORIES:Orgelconcert
ATTACH;FMTTYPE=image/jpeg:https://www.kerkconcertendelft.nl/wp-content/uploads/2026/01/laube.jpg
END:VEVENT
BEGIN:VEVENT
DTSTART;TZID=Europe/Amsterdam:20260717T200000
DTEND;TZID=Europe/Amsterdam:20260717T210000
DTSTAMP:20260424T225146
CREATED:20260124T230328Z
LAST-MODIFIED:20260416T232645Z
UID:5666-1784318400-1784322000@www.kerkconcertendelft.nl
SUMMARY:Wibren Jonkers - Orgelconcert
DESCRIPTION:
URL:https://www.kerkconcertendelft.nl/concert/wibren-jonkers/
LOCATION:Nieuwe Kerk Delft\, Markt 80\, Delft\, Zuid-Holland\, 2611 GW\, Nederland
CATEGORIES:Orgelconcert
ATTACH;FMTTYPE=image/jpeg:https://www.kerkconcertendelft.nl/wp-content/uploads/2026/01/jonkers.jpg
END:VEVENT
BEGIN:VEVENT
DTSTART;TZID=Europe/Amsterdam:20260724T200000
DTEND;TZID=Europe/Amsterdam:20260724T210000
DTSTAMP:20260424T225146
CREATED:20260125T201312Z
LAST-MODIFIED:20260416T232637Z
UID:5689-1784923200-1784926800@www.kerkconcertendelft.nl
SUMMARY:Geerten Liefting - Orgelconcert
DESCRIPTION:
URL:https://www.kerkconcertendelft.nl/concert/geerten-liefting/
LOCATION:Oude Kerk Delft\, Heilige Geestkerkhof 25\, Delft\, Zuid-Holland\, 2611 HP\, Nederland
CATEGORIES:Improvisatie,Orgelconcert
ATTACH;FMTTYPE=image/png:https://www.kerkconcertendelft.nl/wp-content/uploads/2026/01/geertenliefting.png
END:VEVENT
BEGIN:VEVENT
DTSTART;TZID=Europe/Amsterdam:20260731T200000
DTEND;TZID=Europe/Amsterdam:20260731T210000
DTSTAMP:20260424T225146
CREATED:20260125T201436Z
LAST-MODIFIED:20260416T232601Z
UID:5691-1785528000-1785531600@www.kerkconcertendelft.nl
SUMMARY:Laurens de Man - Orgelconcert
DESCRIPTION:
URL:https://www.kerkconcertendelft.nl/concert/laurens-de-man/
LOCATION:Nieuwe Kerk Delft\, Markt 80\, Delft\, Zuid-Holland\, 2611 GW\, Nederland
CATEGORIES:Bachherdenking,Orgelconcert
ATTACH;FMTTYPE=image/jpeg:https://www.kerkconcertendelft.nl/wp-content/uploads/2026/01/laurensdeman.jpg
END:VEVENT
BEGIN:VEVENT
DTSTART;TZID=Europe/Amsterdam:20260807T200000
DTEND;TZID=Europe/Amsterdam:20260807T210000
DTSTAMP:20260424T225146
CREATED:20260125T201550Z
LAST-MODIFIED:20260416T232611Z
UID:5693-1786132800-1786136400@www.kerkconcertendelft.nl
SUMMARY:Evan Bogerd - Orgelconcert
DESCRIPTION:
URL:https://www.kerkconcertendelft.nl/concert/evan-bogerd/
LOCATION:Oude Kerk Delft\, Heilige Geestkerkhof 25\, Delft\, Zuid-Holland\, 2611 HP\, Nederland
CATEGORIES:Orgelconcert
ATTACH;FMTTYPE=image/jpeg:https://www.kerkconcertendelft.nl/wp-content/uploads/2026/01/evanbogerd.jpg
END:VEVENT
BEGIN:VEVENT
DTSTART;TZID=Europe/Amsterdam:20260814T200000
DTEND;TZID=Europe/Amsterdam:20260814T210000
DTSTAMP:20260424T225146
CREATED:20260125T201656Z
LAST-MODIFIED:20260416T232625Z
UID:5695-1786737600-1786741200@www.kerkconcertendelft.nl
SUMMARY:Adriaan Hoek - Orgelconcert
DESCRIPTION:
URL:https://www.kerkconcertendelft.nl/concert/adriaan-hoek/
LOCATION:Nieuwe Kerk Delft\, Markt 80\, Delft\, Zuid-Holland\, 2611 GW\, Nederland
CATEGORIES:Orgelconcert
ATTACH;FMTTYPE=image/jpeg:https://www.kerkconcertendelft.nl/wp-content/uploads/2026/01/adriaanhoek.jpg
END:VEVENT
END:VCALENDAR